BEGIN:VCALENDAR
VERSION:2.0
PRODID:-//WP EVENT Manager Ical//NONSGML Events //EN
CALSCALE:GREGORIAN

BEGIN:VEVENT

DTSTART:20300723T003000AMZ
DTEND:20300722T050000AMZ
LOCATION:Online
SUMMARY:Bug Industry Club!
DESCRIPTION:
Monday &#8211; LEVEL:UP &#8211; Industry night with discounts and music requests!Anyone with proof that they work in the pub/ club/ live music/ restaurant industry will have access to the following drinks prices, upstairs midnight until 4am:



ALL THESE *** £3 ***Corona, Desperados, Hooch, VK, pints of; Guinness, Hobgoblin, Red Stripe, and Strongbow, doubles of Cactus Jack, Corky&#8217;s, Jungfrau, tequila, sambuca, selected shooters and cocktails AND 0% Heineken and Kopparberg!!



Club nights in our upstairs venue every night, until 4am except Sunday, yes we are nuts.Tuesday &#8211; JUMP! &#8211; indie / rock / pop / fun&nbsp;Wednesday &#8211; CRASH &#8211; old skwl / rnb / disco / dnb / house / techno&nbsp;Thursday &#8211; The Rock Society &#8211; Rock / Metal / Emo / Pop-Punk /Friday &#8211; Primal &#8211; Rock / Metal / Punk / Alt&nbsp;Saturday &#8211; The Get Down &#8211; Hip Hop / RnB / Funk / Hip Hop / Dance



Every club night is FREE entry midnight until 4am and every night we have amazing drinks offers: 2 for £10 selected cocktails all night! £4.20 Strong Bow, Red Stripe pints £3 selected bottles £2.50 Olmeca Jungfrau Bomb one for £2 or three for £5 £1.50 Corky&#8217;s or five for £5



We also have our arcade open upstairs all the time, if you want to use it during the day just mention to the bar staff ad they&#8217;ll open it up for you&nbsp;

END:VEVENT
END:VCALENDAR
